BEGIN:VCALENDAR
VERSION:2.0
PRODID:-//wp-events-plugin.com//7.2.2.1//EN
BEGIN:VEVENT
UID:417@aksk.gov.al
DTSTART:20260508T000000Z
DTEND:20260508T000000Z
DTSTAMP:20260311T105706Z
URL:https://aksk.gov.al/events/western-balkan-cyber-camp-2026/
SUMMARY:Western Balkan Cyber Camp 2026
DESCRIPTION:&nbsp\;\n\n&nbsp\;
CATEGORIES:Future_events
END:VEVENT
END:VCALENDAR