BEGIN:VCALENDAR
VERSION:2.0
PRODID:-//wp-events-plugin.com//7.2.2.1//EN
BEGIN:VEVENT
UID:114@aksk.gov.al
DTSTART:20240726T150000Z
DTEND:20240726T160000Z
DTSTAMP:20240719T065957Z
URL:https://aksk.gov.al/events/webinarin-online-me-teme-sulmet-kibernetike
 -vektoret-e-sulmeve-dhe-mbrojtja-ndaj-tyre/
SUMMARY:Webinarin online me temë: “Sulmet Kibernetike\, Vektorët e Sulm
 eve dhe Mbrojtja ndaj tyre”
DESCRIPTION:Autoriteti Kombëtar për Sigurinë Kibernetike do të organizo
 jë webinarin e radhës me Temë: “Sulmet Kibernetike\, Vektorët e Sul
 meve dhe Mbrojtja ndaj tyre”. Pavarësisht nëse jeni profesionist me p
 ërvojë apo sapo keni nisur udhëtimin tuaj\, ky webinar është për ju 
 dhe do t’ju ofrojë njohuritë si:* Çfarë janë sulmet kibernetike* Ci
 lët janë Vektorët e sulmeve* Si të mbrohemi ndaj sulmeve kibernetike* 
 Cilat janë të rejat e fundit në teknologjitë e sigurisë kibernetike 
 Ky sesion informues do të fillojë në: 26 Korrik Ora 15:00-16:00 Onli
 ne Ilir DakaRegjistrimet për këtë webinar mund të bëhen duke klikuar
  në linkun më poshtë:https://events.teams.microsoft.com/.../dd37f2d5-ee
 7c-441a...ose për më shumë informacion vizitoni www.aksk.gov.al
ATTACH;FMTTYPE=image/jpeg:https://aksk.gov.al/wp-content/uploads/2024/07/W
 EBINAR-WEB-POST.png
CATEGORIES:Past_events
END:VEVENT
END:VCALENDAR