BEGIN:VCALENDAR
VERSION:2.0
PRODID:-//wp-events-plugin.com//7.2.2.1//EN
BEGIN:VEVENT
UID:285@aksk.gov.al
DTSTART:20250423T000000Z
DTEND:20250423T000000Z
DTSTAMP:20250417T064431Z
URL:https://aksk.gov.al/events/webinar-online-me-teme-transformimi-i-sigur
 ise-kibernetike-ne-epoken-e-inteligjences-artificiale-ai/
SUMMARY:Webinar Online me Temë: “Transformimi i sigurisë kibernetike n
 ë epokën e inteligjencës artificiale (AI)”
DESCRIPTION:Autoriteti Kombëtar për Sigurinë Kibernetike do të organizo
 jë webinarin e radhës me temë: “Transformimi i sigurisë kibernetike 
 në epokën e inteligjencës artificiale (AI)”.\n\n\nNëpërmjet këtij 
 webinari pjesëmarrësit do të jenë në gjendje të kuptojnë:\n\n 	Çfa
 rë është inteligjenca artificiale dhe si përdoret në siguri kibernet
 ike.\n 	Përse AI është një faktor kyç në fushën e sigurisë kiberne
 tike?\n 	Cilat janë rreziqet dhe kërcënimet që lindin nga përdorimi i
  AI në sigurinë kibernetike?\n 	Cilat janë sfidat dhe përdorimi etik i
  AI-së në të ardhmen?\n\n\n\nData: 23 Prill 2025\nOra: 15:00-16:00\n
 Vendi: Online\nTrajnues: Ergion Kopani\n\n
ATTACH;FMTTYPE=image/jpeg:https://aksk.gov.al/wp-content/uploads/2025/04/W
 ebinar-New-1-scaled.jpg
CATEGORIES:Past_events
END:VEVENT
END:VCALENDAR