BEGIN:VCALENDAR
VERSION:2.0
PRODID:-//wp-events-plugin.com//7.2.2.1//EN
BEGIN:VEVENT
UID:37@aksk.gov.al
DTSTART:20231220T093000Z
DTEND:20231222T013000Z
DTSTAMP:20240105T123458Z
URL:https://aksk.gov.al/events/ttx-dhe-cyberdrill-per-institucionet-e-pava
 ruara-sektorin-e-ujit-akshi-dhe-policia-e-shtetit/
SUMMARY:TTX dhe CyberDrill  për Institucionet e pavaruara\, Sektorin e Uji
 t\, AKSHI dhe Policia e Shtetit
DESCRIPTION:\n\n\n\n\n
CATEGORIES:Past_events
END:VEVENT
END:VCALENDAR