BEGIN:VCALENDAR
VERSION:2.0
PRODID:-//wp-events-plugin.com//7.2.2.1//EN
BEGIN:VEVENT
UID:289@aksk.gov.al
DTSTART:20250428T000000Z
DTEND:20250428T000000Z
DTSTAMP:20250418T113124Z
URL:https://aksk.gov.al/events/trajnimi-nepermjet-platformes-simspace/
SUMMARY:Trajnimi nëpërmjet Platformës SimSpace
DESCRIPTION:Data: 28 Prill 2025\n\nVendi: Fakulteti i Teknologjisë së Inf
 ormacionit\n\nOra: 09:00 – 15:00
CATEGORIES:Past_events
END:VEVENT
END:VCALENDAR