BEGIN:VCALENDAR
VERSION:2.0
PRODID:-//wp-events-plugin.com//7.2.2.1//EN
BEGIN:VEVENT
UID:296@aksk.gov.al
DTSTART:20250618T000000Z
DTEND:20250618T000000Z
DTSTAMP:20250526T084445Z
URL:https://aksk.gov.al/events/trajnimi-nepermjet-platformes-simspace-4/
SUMMARY:Trajnimi nëpërmjet Platformës SimSpace
DESCRIPTION:\n\n\n\nData: 18 Qershor 2025\n\nVendi: Tiranë\n\nOra: 09:00 
 – 15:00\n\n\n\n\n\n\n\n\n
CATEGORIES:Past_events
END:VEVENT
END:VCALENDAR