BEGIN:VCALENDAR
VERSION:2.0
PRODID:-//wp-events-plugin.com//7.2.2.1//EN
BEGIN:VEVENT
UID:295@aksk.gov.al
DTSTART:20250522T000000Z
DTEND:20250522T000000Z
DTSTAMP:20250519T115056Z
URL:https://aksk.gov.al/events/trajnimi-nepermjet-platformes-simspace-3/
SUMMARY:Trajnimi nëpërmjet Platformës SimSpace
DESCRIPTION:Data: 22 Maj 2025\n\nVendi: Fakulteti Shekncave të Natyrës\n\
 nOra: 09:00 – 15:00
CATEGORIES:Past_events
END:VEVENT
END:VCALENDAR