BEGIN:VCALENDAR
VERSION:2.0
PRODID:-//wp-events-plugin.com//7.2.2.1//EN
BEGIN:VEVENT
UID:72@aksk.gov.al
DTSTART:20240425T000000Z
DTEND:20240425T000000Z
DTSTAMP:20240516T072006Z
URL:https://aksk.gov.al/events/trajnim-teknik-nga-ekspertet-e-aksk-ne-inst
 itutin-kanadez-te-teknologjise-cit/
SUMMARY:Trajnim teknik nga ekspertët e AKCESK në Institutin Kanadez të T
 eknologjisë (CIT)
DESCRIPTION:\nNë datën 25 Prill\, ora 09:30 - 13:00 do të zhvillohet në
  Institutin Kanadez të Teknologjisë (CIT) Trajnim Teknik gjithë-përfsh
 irës mbi Sigurinë Kibernetike nga ekspertët e AKCESK.\n\n\n\n\n\n\nNë 
 këtë trajnim\, do të mësoni se si të zbatoni politikat dhe procedurat
  e sigurisë\, të parandaloni sulmet kibernetike dhe të qëndroni të p
 ërditësuar mbi tendencat aktuale të kërcënimeve. Sesioni do të zhvil
 lohet në formën e një simulimi kibernetik përmes platformës Cyber Dri
 ll.\n\nMos e humbisni këtë mundësi të jashtëzakonshme për të ndërt
 uar një themel të fortë për karrierën tuaj të ardhshme në sigurinë
  kibernetike.\n\n🗓️𝟐𝟓 Prill\, 𝟐𝟎𝟐𝟒\n🕐𝟎𝟗:
 𝟑𝟎 - 13:00\n📍𝐋𝐚𝐛 𝟓\, 𝐂𝐈𝐓\n\n\n\n
ATTACH;FMTTYPE=image/jpeg:https://aksk.gov.al/wp-content/uploads/2024/05/4
 40358248_830227165795756_3177813286485216886_n.jpg
CATEGORIES:Past_events
END:VEVENT
END:VCALENDAR