BEGIN:VCALENDAR
VERSION:2.0
PRODID:-//wp-events-plugin.com//7.2.2.1//EN
BEGIN:VEVENT
UID:71@aksk.gov.al
DTSTART:20240524T093000Z
DTEND:20240524T133000Z
DTSTAMP:20240523T141315Z
URL:https://aksk.gov.al/events/trajnim-table-top-exercise-and-cyber-drill-
 ne-universitetin-aleksander-xhuvani-elbasan/
SUMMARY:Trajnim Table TOP Exercise and Cyber Drill në Universitetin Aleksa
 ndër Xhuvani\, Elbasan
DESCRIPTION:Autoriteti Kombëtar për Sigurinë Kibernetike (AKSK) do të z
 hvillojë në datën 24 Maj në orën 09:30- 13:30 trajnim me studentët e
  Universitetit Aleksandër Xhuvani\, Elbasan. Ky trajnim do të udhëhiqet
  nga ekspertë të Autoritetit ku do të trajtohen tematikat mbi:\n\n 	Sig
 urinë Kibernetike\, një prezantim ku do të shpjegohet qëllimi\, objekt
 ivat\, misioni dhe kompetencat e Autoritetit.\n 	Menaxhimi i një inciden
 ti kibernetik ku do të shpjegohen se cilat janë hapat që ndërmerren gj
 atë menaxhimit të një incidenti kibernetik\n 	Pjesa praktike (Cyber Dri
 ll Exercise) ku do kryhet një simulim i rasteve të një incidenti kibern
 etik.\n\nQëllimi i këtij trajnimi është rritja e kapaciteteve të stud
 entëve dhe aftësimi i tyre në fushën e sigurisë kibernetike.
ATTACH;FMTTYPE=image/jpeg:https://aksk.gov.al/wp-content/uploads/2024/05/T
 rajnim-Table-TOP-Exercise-Cyber-Drill.png
CATEGORIES:Past_events
END:VEVENT
END:VCALENDAR