BEGIN:VCALENDAR
VERSION:2.0
PRODID:-//wp-events-plugin.com//7.2.2.1//EN
BEGIN:VEVENT
UID:69@aksk.gov.al
DTSTART:20240522T093000Z
DTEND:20240522T133000Z
DTSTAMP:20240522T122848Z
URL:https://aksk.gov.al/events/trajnim-table-top-exercise-and-cyber-drill-
 ne-fakultetin-e-teknologjise-se-informacionit-tirane/
SUMMARY:Trajnim Table TOP Exercise and Cyber Drill në Fakultetin e Teknolo
 gjisë së Informacionit\, Tiranë
DESCRIPTION:Autoriteti Kombëtar për Sigurinë Kibernetike (AKSK) do të z
 hvillojë në datën 22 Maj në orën 09:30- 13:30 trajnim me studentët 
 e Fakultetit të Teknologjisë së Informacionit\, Tiranë. Ky trajnim do 
 të udhëhiqet nga ekspertë të Autoritetit ku do të trajtohen tematikat
  mbi:\n\n 	Sigurinë Kibernetike\, një prezantim ku do të shpjegohet që
 llimi\, objektivat\, misioni dhe kompetencat e Autoritetit.\n 	Menaxhimi 
 i një incidenti kibernetik ku do të shpjegohen se cilat janë hapat që 
 ndërmerren gjatë menaxhimit të një incidenti kibernetik\n 	Pjesa prakt
 ike (Cyber Drill Exercise) ku do kryhet një simulim i rasteve të një in
 cidenti kibernetik.\n\nQëllimi i këtij trajnimi është rritja e kapacit
 eteve të studentëve dhe aftësimi i tyre në fushën e sigurisë kiberne
 tike.
ATTACH;FMTTYPE=image/jpeg:https://aksk.gov.al/wp-content/uploads/2024/05/2
 .png
CATEGORIES:Past_events
END:VEVENT
END:VCALENDAR