BEGIN:VCALENDAR
VERSION:2.0
PRODID:-//wp-events-plugin.com//7.2.2.1//EN
BEGIN:VEVENT
UID:141@aksk.gov.al
DTSTART:20241014T000000Z
DTEND:20241014T000000Z
DTSTAMP:20240918T072903Z
URL:https://aksk.gov.al/events/trajnim-per-oficeret-e-sigurise-ne-shkolla-
 4/
SUMMARY:Trajnim për Oficerët e Sigurisë në Shkolla
DESCRIPTION:Data: 14 Tetor\n\nOra: 14:00\n\nVendndodhja: Shkolla e Mesme Pe
 dagogjike “Luigj Gurakuqi”\, Elbasan\n\n&nbsp\;
CATEGORIES:Past_events
END:VEVENT
END:VCALENDAR