BEGIN:VCALENDAR
VERSION:2.0
PRODID:-//wp-events-plugin.com//7.2.2.1//EN
BEGIN:VEVENT
UID:139@aksk.gov.al
DTSTART:20240927T000000Z
DTEND:20240927T000000Z
DTSTAMP:20240918T072313Z
URL:https://aksk.gov.al/events/trajnim-per-oficeret-e-sigurise-ne-shkolla-
 2/
SUMMARY:Trajnim për Oficerët e Sigurisë në Shkolla
DESCRIPTION:Data: 27 Shtator\n\nOra: 13:00\n\nVendndodhja: Shkolla 9-vjeça
 re “Servete Maçi”\, Tiranë\n\n&nbsp\;
CATEGORIES:Past_events
END:VEVENT
END:VCALENDAR