BEGIN:VCALENDAR
VERSION:2.0
PRODID:-//wp-events-plugin.com//7.2.2.1//EN
BEGIN:VEVENT
UID:154@aksk.gov.al
DTSTART:20241025T093000Z
DTEND:20241025T153000Z
DTSTAMP:20241021T135535Z
URL:https://aksk.gov.al/events/trajnim-me-teme-metodat-alternative-ne-sigu
 rine-kibernetike-me-platforma-open-source-2/
SUMMARY:Trajnim me temë: "Metodat Alternative në Sigurinë Kibernetike me
  Platforma Open Source"
DESCRIPTION:Autoriteti Kombëtar për Sigurinë Kibernetike\, i angazhuar n
 ë rritjen e  kapaciteteve të stafit të infrastrukturave kritike dhe t
 ë rëndësishme të informacionit si dhe institucioneve të pavarura do t
 ë organizojë për këtë qëllim një trajnim nga ekspertë të Autorite
 tit.\n\nTrajnimi do të zhvillohet:\n\nData: 25 Tetor 2024\n\nOra: 9:30-15
 :30  \n\nVendndodhja: Hotel Tirana International\n\n&nbsp\;\n\nKy trajni
 m ka për synim të rrisë kapacitetet teknike në përdorimin e teknologj
 ive Alternative me platforma Open Source.\n\nTematikat që do zhvillohen 
 gjatë trajnimit janë:\n\n1. Mbrojtja e Perimetrit të Rrjetit: Firewall\
 , WAF\, analiza trafiku\, IDS/IPS\n\n2. Menaxhimi i Logeve (SIEM): Mbledhj
 a dhe analizimi i logeve për identifikimin e kërcënimeve në kohë real
 e\n\n3. Mbrojtja e Sistemeve Fundore (EDR/XDR): Detektim dhe përgjigje nd
 aj kërcënimeve në pajisjet fundore\n\n4. Metoda të tjera kompensuese p
 ër software në mbrojtjen e sistemeve të sigurisë kibernetike\n\nLutem 
 sigurohuni të keni Laptop me vete.
ATTACH;FMTTYPE=image/jpeg:https://aksk.gov.al/wp-content/uploads/2024/10/T
 rajnim-Table-TOP-Exercise-Cyber-Drill-1.png
CATEGORIES:Past_events
END:VEVENT
END:VCALENDAR