BEGIN:VCALENDAR
VERSION:2.0
PRODID:-//wp-events-plugin.com//7.2.2.1//EN
BEGIN:VEVENT
UID:150@aksk.gov.al
DTSTART:20241016T090000Z
DTEND:20241017T120000Z
DTSTAMP:20241011T085336Z
URL:https://aksk.gov.al/events/trajnim-mbi-higjienen-kibernetike/
SUMMARY:Trajnim Mbi Higjienën Kibernetike
DESCRIPTION:Data: 16-17 Tetor\n\nQyteti: Korçë\n\nOra: 09:00 - 12:00 \; 1
 3:00 - 15:30\n\n&nbsp\;
CATEGORIES:Past_events
END:VEVENT
END:VCALENDAR