BEGIN:VCALENDAR
VERSION:2.0
PRODID:-//wp-events-plugin.com//7.2.2.1//EN
BEGIN:VEVENT
UID:346@aksk.gov.al
DTSTART:20251105T000000Z
DTEND:20251105T000000Z
DTSTAMP:20251104T103257Z
URL:https://aksk.gov.al/events/trajnim-mbi-higjienen-kibernetike-dhe-prakt
 ikat-me-te-mira-te-sigurise-online-organizuar-per-senatoret-e-shkollave-te
 -mesme/
SUMMARY:Trajnim mbi Higjienën Kibernetike dhe Praktikat më të Mira të S
 igurisë Online\, organizuar për Senatorët e Shkollave të Mesme
DESCRIPTION:Data: 05 Nëntor\n\nVendi: Gjimnazi "Sami Frashëri"\, Tiranë
 \n\nOra: 14:00 - 16:30
CATEGORIES:Past_events
END:VEVENT
END:VCALENDAR