BEGIN:VCALENDAR
VERSION:2.0
PRODID:-//wp-events-plugin.com//7.2.2.1//EN
BEGIN:VEVENT
UID:429@aksk.gov.al
DTSTART:20260423T000000Z
DTEND:20260423T000000Z
DTSTAMP:20260424T090708Z
URL:https://aksk.gov.al/events/talent-club-8/
SUMMARY:Talent Club
DESCRIPTION:Data: 23 Prill\n\nVendi: Piramida – Kubi Blu\n\nOra: 17:00 
 – 18:30
CATEGORIES:Past_events
END:VEVENT
END:VCALENDAR