BEGIN:VCALENDAR
VERSION:2.0
PRODID:-//wp-events-plugin.com//7.2.2.1//EN
BEGIN:VEVENT
UID:413@aksk.gov.al
DTSTART:20260326T000000Z
DTEND:20260326T000000Z
DTSTAMP:20260309T102819Z
URL:https://aksk.gov.al/events/talent-club-5/
SUMMARY:Talent Club
DESCRIPTION:Data: 26 Mars\n\nVendi: Piramida – Kubi Blu\n\nOra: 17:00 
 – 18:30
CATEGORIES:Past_events
END:VEVENT
END:VCALENDAR