BEGIN:VCALENDAR
VERSION:2.0
PRODID:-//wp-events-plugin.com//7.2.2.1//EN
BEGIN:VEVENT
UID:411@aksk.gov.al
DTSTART:20260313T000000Z
DTEND:20260313T000000Z
DTSTAMP:20260313T094934Z
URL:https://aksk.gov.al/events/talent-club-3/
SUMMARY:Talent Club
DESCRIPTION:Data: 13 Mars\n\nVendi: Piramida – Kubi Blu\n\nOra: 14:30 - 1
 6:00
CATEGORIES:Past_events
END:VEVENT
END:VCALENDAR