BEGIN:VCALENDAR
VERSION:2.0
PRODID:-//wp-events-plugin.com//7.2.2.1//EN
BEGIN:VEVENT
UID:420@aksk.gov.al
DTSTART:20260326T000000Z
DTEND:20260326T000000Z
DTSTAMP:20260311T110449Z
URL:https://aksk.gov.al/events/matchmaker/
SUMMARY:MatchMaker
DESCRIPTION:Data: 26 Mars\n\nVendi: Pallati Kongreseve\n\n&nbsp\;
CATEGORIES:Past_events
END:VEVENT
END:VCALENDAR