BEGIN:VCALENDAR
VERSION:2.0
PRODID:-//wp-events-plugin.com//7.2.2.1//EN
BEGIN:VEVENT
UID:421@aksk.gov.al
DTSTART:20260423T000000Z
DTEND:20260423T000000Z
DTSTAMP:20260311T110954Z
URL:https://aksk.gov.al/events/international-girls-in-ict-day-2026/
SUMMARY:International Girls in ICT Day 2026
DESCRIPTION:Data: 23 Prill\n\nVendi: Piramida\n\nOra: 08:30 - 16:00
CATEGORIES:Past_events
END:VEVENT
END:VCALENDAR