BEGIN:VCALENDAR
VERSION:2.0
PRODID:-//wp-events-plugin.com//7.2.2.1//EN
BEGIN:VEVENT
UID:252@aksk.gov.al
DTSTART:20250213T000000Z
DTEND:20250213T000000Z
DTSTAMP:20250204T100802Z
URL:https://aksk.gov.al/events/forumi-i-10-te-kombetar-se-bashku-kunder-bu
 llizmit-dhe-gjuhes-se-urrejtjes-ne-hapesiren-kibernetike/
SUMMARY:Forumi i 10-të Kombëtar: Së Bashku kundër Bullizmit dhe Gjuhës
  së Urrejtjes në Hapësirën Kibernetike
DESCRIPTION:Data: 13 Shkurt 2025\n\nOra: 10:30 - 13:30\n\nVendi: Hotel Tira
 na International
CATEGORIES:Past_events
END:VEVENT
END:VCALENDAR