BEGIN:VCALENDAR
VERSION:2.0
PRODID:-//wp-events-plugin.com//7.2.2.1//EN
BEGIN:VEVENT
UID:168@aksk.gov.al
DTSTART:20241104T000000Z
DTEND:20241104T000000Z
DTSTAMP:20241025T093751Z
URL:https://aksk.gov.al/events/eventi-rajonal-undp/
SUMMARY:Eventi Rajonal UNDP
DESCRIPTION:
CATEGORIES:Past_events
END:VEVENT
END:VCALENDAR