BEGIN:VCALENDAR
VERSION:2.0
PRODID:-//wp-events-plugin.com//7.2.2.1//EN
BEGIN:VEVENT
UID:152@aksk.gov.al
DTSTART:20241024T090000Z
DTEND:20241024T163000Z
DTSTAMP:20241015T132037Z
URL:https://aksk.gov.al/events/cyberfrontiers-hackathon/
SUMMARY:CyberFrontiers Hackathon
DESCRIPTION:\nCyberFrontiers Hackathon një mundësi unike për të gjithë
  ekspertët dhe entuziastët e sigurisë kibernetike!\n\n\n
ATTACH;FMTTYPE=image/jpeg:https://aksk.gov.al/wp-content/uploads/2024/10/4
 62193389_950253747143183_3232035360733518310_n.jpg
CATEGORIES:Past_events
END:VEVENT
END:VCALENDAR