BEGIN:VCALENDAR
VERSION:2.0
PRODID:-//wp-events-plugin.com//7.2.2.1//EN
BEGIN:VEVENT
UID:172@aksk.gov.al
DTSTART:20241206T000000Z
DTEND:20241206T000000Z
DTSTAMP:20241204T133330Z
URL:https://aksk.gov.al/events/cyber-hygiene-3/
SUMMARY:Cyber Hygiene
DESCRIPTION:Data: 6 Dhjetor\n\nQyteti: Tiranë\n\nVendi: Shkolla 9 vjeçar
 e “Servete Maçi”\n\nOra: 13:00 – 15:00
CATEGORIES:Past_events
END:VEVENT
END:VCALENDAR