BEGIN:VCALENDAR
VERSION:2.0
PRODID:-//wp-events-plugin.com//7.2.2.1//EN
BEGIN:VEVENT
UID:171@aksk.gov.al
DTSTART:20241115T000000Z
DTEND:20241115T000000Z
DTSTAMP:20241118T084145Z
URL:https://aksk.gov.al/events/cyber-hygiene-2/
SUMMARY:Cyber Hygiene
DESCRIPTION:Data: 15 Nëntor\n\nVendi: Shkolla 9-Vjecare "Servete Maci" dhe
  Gjimnazi "Sami Frashëri"\n\nOra: 14:00-16:00
CATEGORIES:Past_events
END:VEVENT
END:VCALENDAR