BEGIN:VCALENDAR
VERSION:2.0
PRODID:-//wp-events-plugin.com//7.2.2.1//EN
BEGIN:VEVENT
UID:422@aksk.gov.al
DTSTART:20260324T000000Z
DTEND:20260324T000000Z
DTSTAMP:20260311T111342Z
URL:https://aksk.gov.al/events/ctf-2/
SUMMARY:Capture The Flag (CTF)
DESCRIPTION:Data: 24 Mars\n\nVendi: Universiteti "Polis"\, Tiranë\n\nOra: 
 09:00 - 12:00
CATEGORIES:Past_events
END:VEVENT
END:VCALENDAR