BEGIN:VCALENDAR
VERSION:2.0
PRODID:-//wp-events-plugin.com//7.2.2.1//EN
BEGIN:VEVENT
UID:250@aksk.gov.al
DTSTART:20250207T000000Z
DTEND:20250207T000000Z
DTSTAMP:20250206T115107Z
URL:https://aksk.gov.al/events/cert-of-poland-2/
SUMMARY:CERT of Poland and Western Balkan CERTs – Training and peer excha
 nge
DESCRIPTION:Data: 6-7 Shkurt\n\nVendi: AKSK "Salla Europa"
CATEGORIES:Past_events
END:VEVENT
END:VCALENDAR