BEGIN:VCALENDAR
VERSION:2.0
PRODID:-//wp-events-plugin.com//7.2.2.1//EN
BEGIN:VEVENT
UID:76@aksk.gov.al
DTSTART:20240320T000000Z
DTEND:20240322T000000Z
DTSTAMP:20240517T071556Z
URL:https://aksk.gov.al/events/balkan-cybersecurity-days-2024-3/
SUMMARY:AKCESK në bashkëpunim me SEI/ Carnegie Mellon University zhvillon
  trajnimin Vulnerability Handling\, Handling Major Events\, Response and C
 ourse in Action
DESCRIPTION:Tematikat e trajnimit:  Trajtimi i Cënueshmërisë\, Trajtimi
  i Ngjarjeve të Mëdha\, Reagimi dhe Kursi në Veprim\n\nPjesëmarrës n
 ë këtë trajnim: AKSHI\, OSHEE\, INSTAT\, KESH\, APD\n\nVendndodhja: On
 site\n\nData: 20 Mars
CATEGORIES:Past_events
END:VEVENT
END:VCALENDAR