BEGIN:VCALENDAR
VERSION:2.0
PRODID:-//wp-events-plugin.com//7.2.2.1//EN
BEGIN:VEVENT
UID:181@aksk.gov.al
DTSTART:20241112T000000Z
DTEND:20241112T000000Z
DTSTAMP:20241113T122147Z
URL:https://aksk.gov.al/events/aktivitet-ndergjegjesues-per-femijet-8/
SUMMARY:Aktivitet Ndërgjegjësues për Fëmijët
DESCRIPTION:Data: 12 Nëntor\n\nQyteti: Tiranë\, Qesarakë\n\nVendi: Shkol
 la 9 vjeçare  "Klodian Tanushi"
CATEGORIES:Past_events
END:VEVENT
END:VCALENDAR