BEGIN:VCALENDAR
VERSION:2.0
PRODID:-//wp-events-plugin.com//7.2.2.1//EN
BEGIN:VEVENT
UID:178@aksk.gov.al
DTSTART:20241108T000000Z
DTEND:20241108T000000Z
DTSTAMP:20241106T121055Z
URL:https://aksk.gov.al/events/aktivitet-ndergjegjesues-per-femijet-7/
SUMMARY:Aktivitet Ndërgjegjësues për Fëmijët
DESCRIPTION:\nData: 8 Nëntor\n\n\n\n\n\n\n\nQyteti: Baldushk\, Tiranë\nVe
 ndi: Shkolla e mesme e bashkuar “Feti Vogli”\n\n\n\n\n\n
CATEGORIES:Past_events
END:VEVENT
END:VCALENDAR