BEGIN:VCALENDAR
VERSION:2.0
PRODID:-//wp-events-plugin.com//7.2.2.1//EN
BEGIN:VEVENT
UID:177@aksk.gov.al
DTSTART:20241107T000000Z
DTEND:20241107T000000Z
DTSTAMP:20241106T074035Z
URL:https://aksk.gov.al/events/aktivitet-ndergjegjesues-per-femijet-6/
SUMMARY:Aktivitet Ndërgjegjësues për Fëmijët
DESCRIPTION:Data: 7 Nëntor\n\nQyteti: Petrelë\, Tiranë\n\nVendi: Shkolla
  9 vjeçare "Sami Kalasa"
CATEGORIES:Past_events
END:VEVENT
END:VCALENDAR