BEGIN:VCALENDAR
VERSION:2.0
PRODID:-//wp-events-plugin.com//7.2.2.1//EN
BEGIN:VEVENT
UID:128@aksk.gov.al
DTSTART:20241022T000000Z
DTEND:20241022T000000Z
DTSTAMP:20240918T064847Z
URL:https://aksk.gov.al/events/aktivitet-ndergjegjesues-per-femijet-5/
SUMMARY:Aktivitet Ndërgjegjësues për Fëmijët
DESCRIPTION:Data: 22 Tetor\n\nQyteti: Zall-Bastar\, Tiranë\n\nVendi: Gjimn
 azi “Bahri Nela”
CATEGORIES:Past_events
END:VEVENT
END:VCALENDAR