BEGIN:VCALENDAR
VERSION:2.0
PRODID:-//wp-events-plugin.com//7.2.2.1//EN
BEGIN:VEVENT
UID:125@aksk.gov.al
DTSTART:20241002T000000Z
DTEND:20241002T000000Z
DTSTAMP:20240918T064353Z
URL:https://aksk.gov.al/events/aktivitet-ndergjegjesues-per-femijet-3/
SUMMARY:Aktivitet Ndërgjegjësues për Fëmijët
DESCRIPTION:Data: 2 Tetor\n\nQyteti: Bathore\, Tiranë\n\nVendi: Shkolla 9-
 vjeçare "Halit Çoka"
CATEGORIES:Past_events
END:VEVENT
END:VCALENDAR