BEGIN:VCALENDAR
VERSION:2.0
PRODID:-//wp-events-plugin.com//7.2.2.1//EN
BEGIN:VEVENT
UID:173@aksk.gov.al
DTSTART:20241029T000000Z
DTEND:20241029T000000Z
DTSTAMP:20241025T100021Z
URL:https://aksk.gov.al/events/aktivitet-ndergjegjesues-per-femijet-15/
SUMMARY:Aktivitet Ndërgjegjësues për Fëmijët
DESCRIPTION:Data: 29 Tetor\n\nQyteti: Pezë Helmes\, Tiranë\n\nVendi: Shko
 lla 9 - Vjecare 'Myrvete Peza'
CATEGORIES:Past_events
END:VEVENT
END:VCALENDAR