BEGIN:VCALENDAR
VERSION:2.0
PRODID:-//wp-events-plugin.com//7.2.2.1//EN
BEGIN:VEVENT
UID:137@aksk.gov.al
DTSTART:20241211T000000Z
DTEND:20241211T000000Z
DTSTAMP:20241216T133621Z
URL:https://aksk.gov.al/events/aktivitet-ndergjegjesues-per-femijet-14/
SUMMARY:Aktivitet Ndërgjegjësues për Fëmijët
DESCRIPTION:Data: 11 Dhjetor\n\nQyteti: Tiranë\n\nVendi: Shkolla 9 - Vjeca
 re "1 Maji"
CATEGORIES:Past_events
END:VEVENT
END:VCALENDAR