BEGIN:VCALENDAR
VERSION:2.0
PRODID:-//wp-events-plugin.com//7.2.2.1//EN
BEGIN:VEVENT
UID:134@aksk.gov.al
DTSTART:20241126T000000Z
DTEND:20241126T000000Z
DTSTAMP:20241125T122949Z
URL:https://aksk.gov.al/events/aktivitet-ndergjegjesues-per-femijet-11/
SUMMARY:Aktivitet Ndërgjegjësues për Fëmijët
DESCRIPTION:Data: 26 Nëntor\n\nQyteti: Fresk\, Tiranë\n\nVendi: Shkolla 9
 -vjeçare “Klodian Tanushi”
CATEGORIES:Past_events
END:VEVENT
END:VCALENDAR