BEGIN:VCALENDAR
VERSION:2.0
PRODID:-//wp-events-plugin.com//7.2.2.1//EN
BEGIN:VEVENT
UID:133@aksk.gov.al
DTSTART:20241115T000000Z
DTEND:20241115T000000Z
DTSTAMP:20241118T081017Z
URL:https://aksk.gov.al/events/aktivitet-ndergjegjesues-per-femijet-10/
SUMMARY:Aktivitet Ndërgjegjësues për Fëmijët
DESCRIPTION:Data: 15 Nëntor\n\nQyteti: Pezë e Vogël\, Tiranë\n\nVendi: 
 Shkolla 9-vjeçare “Agron Hysenlliu”
CATEGORIES:Past_events
END:VEVENT
END:VCALENDAR